BEGIN:VCALENDAR
VERSION:2.0
PRODID:-//www.nebrafp.org//NONSGML kigkonsult.se iCalcreator 2.30.10//
CALSCALE:GREGORIAN
METHOD:PUBLISH
UID:48f43c51-0807-4a04-b099-459ea7986c1c
X-WR-CALDESC:This is a special pre-conference event funded by the Nebraska 
 Office of Rural Health and presented by NPQIC and Sim-NE. \n\nIn conjuncti
 on with the NAFP's Spring Meeting\, NPQIC will provide perinatal simulatio
 n training to rural health care providers that will benefit babies and mom
 s when they need it most. Funded by a grant from the Nebraska Department o
 f Rural Health\, the training will give rural providers the latest informa
 tion and training on neonatal resuscitation and high-risk delivery. Obstet
 rical and neonatal experts will provide didactic lectures and skills labs 
 and\, using UNMC's SIM-NE trucks\, will present two simulation experiences
  on neonatal resuscitation and high-risk delivery.  The team hopes to fill
  a training gap by offering education and hands-on experience to refresh t
 he physician's skills. They'll be able to practice on simulation mannequin
 s\, so they are ready for the next high-risk delivery that walks into thei
 r hospital. Stay tuned for more details on the NAFP website. \n\nAttendanc
 e is VERY limited for this event.\n\nFaculty:\n\nAnn Anderson Berry\, MD\n
 Sydnie Camaher\, NNP\nJackie Liess\, NNP\nMonty Mathews\, MD\nAmy TerMatt\
 , NNP \n\nObjectives:\n* Demonstrate appropriate resuscitation and stabili
 zation of the critical newborn\n* Demonstrate appropriate interventions fo
 r dystocia\n* Demonstrate management of precipitous delivery\n* Describe a
 ppropriate management of postpartum hemorrhage\n\nAgenda is attached. Atte
 ndees will be on their own for lunch.
X-WR-RELCALID:dfe9347770f25c8490d8106f435b7426
X-WR-TIMEZONE:America/Chicago
BEGIN:VTIMEZONE
TZID:America/Chicago
BEGIN:STANDARD
TZNAME:CST
DTSTART:20181104T020000
TZOFFSETFROM:-0500
TZOFFSETTO:-0600
RDATE:20191103T020000
END:STANDARD
BEGIN:DAYLIGHT
TZNAME:CDT
DTSTART:20190310T020000
TZOFFSETFROM:-0600
TZOFFSETTO:-0500
RDATE:20200308T020000
END:DAYLIGHT
END:VTIMEZONE
BEGIN:VEVENT
UID:57c28780-d3df-4cae-9e40-15aa53027099
DTSTAMP:20260423T023346Z
DESCRIPTION:This is a special pre-conference event funded by the Nebraska O
 ffice of Rural Health and presented by NPQIC and Sim-NE. \n\nIn conjunctio
 n with the NAFP's Spring Meeting\, NPQIC will provide perinatal simulation
  training to rural health care providers that will benefit babies and moms
  when they need it most. Funded by a grant from the Nebraska Department of
  Rural Health\, the training will give rural providers the latest informat
 ion and training on neonatal resuscitation and high-risk delivery. Obstetr
 ical and neonatal experts will provide didactic lectures and skills labs a
 nd\, using UNMC's SIM-NE trucks\, will present two simulation experiences 
 on neonatal resuscitation and high-risk delivery.  The team hopes to fill 
 a training gap by offering education and hands-on experience to refresh th
 e physician's skills. They'll be able to practice on simulation mannequins
 \, so they are ready for the next high-risk delivery that walks into their
  hospital. Stay tuned for more details on the NAFP website. \n\nAttendance
  is VERY limited for this event.\n\nFaculty:\n\nAnn Anderson Berry\, MD\nS
 ydnie Camaher\, NNP\nJackie Liess\, NNP\nMonty Mathews\, MD\nAmy TerMatt\,
  NNP \n\nObjectives:\n* Demonstrate appropriate resuscitation and stabiliz
 ation of the critical newborn\n* Demonstrate appropriate interventions for
  dystocia\n* Demonstrate management of precipitous delivery\n* Describe ap
 propriate management of postpartum hemorrhage\n\nAgenda is attached. Atten
 dees will be on their own for lunch.
DTSTART;TZID=America/Chicago:20190327T093000
DTEND;TZID=America/Chicago:20190327T170000
LOCATION:Embassy Suites La Vista\, 12520 Westport Pkwy\, La Vista\, NE 6812
 8
SUMMARY:ASA Pre-Conference: Perinatal Simulation Training
END:VEVENT
END:VCALENDAR
