BEGIN:VCALENDAR
VERSION:2.0
PRODID:-//www.nebrafp.org//NONSGML kigkonsult.se iCalcreator 2.30.10//
CALSCALE:GREGORIAN
METHOD:PUBLISH
UID:85adfb70-c43b-46b2-8bd7-65f7170ce575
X-WR-CALDESC:
X-WR-RELCALID:eae5840b3ae15bf7dec02813075fe166
X-WR-TIMEZONE:America/Chicago
BEGIN:VTIMEZONE
TZID:America/Chicago
BEGIN:STANDARD
TZNAME:CST
DTSTART:20231105T020000
TZOFFSETFROM:-0500
TZOFFSETTO:-0600
RDATE:20241103T020000
RDATE:20251102T020000
END:STANDARD
BEGIN:DAYLIGHT
TZNAME:CDT
DTSTART:20240310T020000
TZOFFSETFROM:-0600
TZOFFSETTO:-0500
RDATE:20250309T020000
RDATE:20260308T020000
END:DAYLIGHT
END:VTIMEZONE
BEGIN:VEVENT
UID:08f2b0e9-56df-49fa-9b83-858aab7e1e07
DTSTAMP:20260424T000451Z
DESCRIPTION:
DTSTART;TZID=America/Chicago:20241026T050000
DTEND;TZID=America/Chicago:20241027T050001
LOCATION:2700 Sylvan Road\, Nebraska City\, NE 68410 US
SUMMARY:29th Annual Fall Conference and Family Weekend
END:VEVENT
END:VCALENDAR
