BEGIN:VCALENDAR
VERSION:2.0
PRODID:-//www.nebrafp.org//NONSGML kigkonsult.se iCalcreator 2.30.10//
CALSCALE:GREGORIAN
METHOD:PUBLISH
UID:3efd5819-39e5-4781-9cc2-bbca96ff9fac
X-WR-CALDESC:Please join us in attending the Nebraska Academy of Family Phy
 sician’s 77th Annual Meeting & Scientific Assembly being held March 13-15\
 , 2025. \n\nHotel Reservations: Courtyard Omaha Aksarben Village | 1625 S 
 67th St | Omaha\, NE 68106\n\nClick 'Register Now' to begin your meeting r
 egistration.  Please review ALL ticket items and select each that you wish
  to register for.
X-WR-RELCALID:a4962b365e2c51288313cb14a062fd3e
X-WR-TIMEZONE:America/Chicago
BEGIN:VTIMEZONE
TZID:America/Chicago
BEGIN:STANDARD
TZNAME:CST
DTSTART:20241103T020000
TZOFFSETFROM:-0500
TZOFFSETTO:-0600
RDATE:20251102T020000
END:STANDARD
BEGIN:DAYLIGHT
TZNAME:CDT
DTSTART:20250309T020000
TZOFFSETFROM:-0600
TZOFFSETTO:-0500
RDATE:20260308T020000
END:DAYLIGHT
END:VTIMEZONE
BEGIN:VEVENT
UID:2e81fa75-dbb8-4f52-a08e-3a478ffaae21
DTSTAMP:20260423T162357Z
DESCRIPTION:Please join us in attending the Nebraska Academy of Family Phys
 ician’s 77th Annual Meeting & Scientific Assembly being held March 13-15\,
  2025. \n\nHotel Reservations: Courtyard Omaha Aksarben Village | 1625 S 6
 7th St | Omaha\, NE 68106\n\nClick 'Register Now' to begin your meeting re
 gistration.  Please review ALL ticket items and select each that you wish 
 to register for.
DTSTART;TZID=America/Chicago:20250313T050000
DTEND;TZID=America/Chicago:20250315T050001
LOCATION:6450 Pine Street\, Omaha\, NE 68106 US
SUMMARY:77th Annual Meeting & Scientific Assembly
END:VEVENT
END:VCALENDAR
