BEGIN:VCALENDAR
VERSION:2.0
PRODID:-//www.nebrafp.org//NONSGML kigkonsult.se iCalcreator 2.30.10//
CALSCALE:GREGORIAN
METHOD:PUBLISH
UID:5f2dca87-ca5c-4e30-bcd6-7af11821df74
X-WR-CALDESC:
X-WR-RELCALID:f734df374b11bb160ce3535edb929bbe
X-WR-TIMEZONE:America/Chicago
BEGIN:VTIMEZONE
TZID:America/Chicago
BEGIN:STANDARD
TZNAME:CST
DTSTART:20231105T020000
TZOFFSETFROM:-0500
TZOFFSETTO:-0600
RDATE:20241103T020000
END:STANDARD
BEGIN:DAYLIGHT
TZNAME:CDT
DTSTART:20230312T020000
TZOFFSETFROM:-0600
TZOFFSETTO:-0500
RDATE:20240310T020000
RDATE:20250309T020000
END:DAYLIGHT
END:VTIMEZONE
BEGIN:VEVENT
UID:8c116466-0f4a-4160-a691-0bcb96f3e6ca
DTSTAMP:20260419T131716Z
DESCRIPTION:
DTSTART;TZID=America/Chicago:20231118T000000
DTEND;TZID=America/Chicago:20231119T005900
LOCATION:2700 Sylvan Road\, Nebraska City\, NE 68410 US
SUMMARY:28th Annual Fall Conference and Family Weekend
END:VEVENT
END:VCALENDAR
